BEGIN:VCALENDAR
VERSION:2.0
PRODID:-//autismuszentrum-bruchsal.de - ECPv6.15.20//NONSGML v1.0//EN
CALSCALE:GREGORIAN
METHOD:PUBLISH
X-ORIGINAL-URL:https://autismuszentrum-bruchsal.de
X-WR-CALDESC:Veranstaltungen für autismuszentrum-bruchsal.de
REFRESH-INTERVAL;VALUE=DURATION:PT1H
X-Robots-Tag:noindex
X-PUBLISHED-TTL:PT1H
BEGIN:VTIMEZONE
TZID:Europe/Berlin
BEGIN:DAYLIGHT
TZOFFSETFROM:+0100
TZOFFSETTO:+0200
TZNAME:CEST
DTSTART:20230326T010000
END:DAYLIGHT
BEGIN:STANDARD
TZOFFSETFROM:+0200
TZOFFSETTO:+0100
TZNAME:CET
DTSTART:20231029T010000
END:STANDARD
BEGIN:DAYLIGHT
TZOFFSETFROM:+0100
TZOFFSETTO:+0200
TZNAME:CEST
DTSTART:20240331T010000
END:DAYLIGHT
BEGIN:STANDARD
TZOFFSETFROM:+0200
TZOFFSETTO:+0100
TZNAME:CET
DTSTART:20241027T010000
END:STANDARD
BEGIN:DAYLIGHT
TZOFFSETFROM:+0100
TZOFFSETTO:+0200
TZNAME:CEST
DTSTART:20250330T010000
END:DAYLIGHT
BEGIN:STANDARD
TZOFFSETFROM:+0200
TZOFFSETTO:+0100
TZNAME:CET
DTSTART:20251026T010000
END:STANDARD
END:VTIMEZONE
BEGIN:VEVENT
DTSTART;TZID=Europe/Berlin:20240611T183000
DTEND;TZID=Europe/Berlin:20240611T200000
DTSTAMP:20260423T020416
CREATED:20231222T134850Z
LAST-MODIFIED:20231222T135952Z
UID:4383-1718130600-1718136000@autismuszentrum-bruchsal.de
SUMMARY:Moderierter Elternaustausch Bruchsal
DESCRIPTION:Moderierter Elternaustausch\nmit dem Ziel des gegenseitigen Austauschs und der Hilfestellung für Eltern von Kindern\, Jugendlichen und jungen Erwachsenen mit einer Diagnose aus dem Autismus Spektrum. \nAlle Termine werden von der Psychologin Sandra Vogelmann moderiert.\nDie Teilnahme ist kostenlos und eine Anmeldung ist nicht erforderlich.
URL:https://autismuszentrum-bruchsal.de/event/moderierter-elternaustausch-14/
LOCATION:Autismuszentrum Bruchsal (Bruchsal)\, Wilderichstr. 11\, Bruchsal\, 76646\, Deutschland
CATEGORIES:Moderierter Elternaustausch
END:VEVENT
BEGIN:VEVENT
DTSTART;TZID=Europe/Berlin:20240613T183000
DTEND;TZID=Europe/Berlin:20240613T200000
DTSTAMP:20260423T020416
CREATED:20231222T133849Z
LAST-MODIFIED:20231222T140003Z
UID:4350-1718303400-1718308800@autismuszentrum-bruchsal.de
SUMMARY:Moderierter Elternaustausch Durlach
DESCRIPTION:Moderierter Elternaustausch\nmit dem Ziel des gegenseitigen Austauschs und der Hilfestellung für Eltern von Kindern\, Jugendlichen und jungen Erwachsenen mit einer Diagnose aus dem Autismus Spektrum. \nAlle Termine werden von der Psychologin Sandra Vogelmann moderiert.\nDie Teilnahme ist kostenlos und eine Anmeldung ist nicht erforderlich.
URL:https://autismuszentrum-bruchsal.de/event/moderierter-elternaustausch-6/
LOCATION:Autismuszentrum Bruchsal (Durlach)\, Zehntstr. 7\, Durlach\, 76227\, Deutschland
CATEGORIES:Moderierter Elternaustausch
END:VEVENT
BEGIN:VEVENT
DTSTART;TZID=Europe/Berlin:20240615T090000
DTEND;TZID=Europe/Berlin:20240615T153000
DTSTAMP:20260423T020416
CREATED:20240321T130420Z
LAST-MODIFIED:20240321T130420Z
UID:4488-1718442000-1718465400@autismuszentrum-bruchsal.de
SUMMARY:Spektrum der Besonderheiten
DESCRIPTION:Das Spektrum ist riesig und die Besonderheiten des Einzelnen immer\nwieder neu und spannend.\nWir setzen uns in dieser Fortbildung mit der Globalität des Autis-\nmus-Spektrums und dem individuellen Kontinuum des Einzelnen ausei-\nnander.\nMethodisch werden wir autobiografischen Einblicke in die Lebenswelt\nvon „Iris“ und dabei unsere verstehende Haltung intensivieren\, sowie eine\nBrücke zur Einführung in die Hypothesenbildung bauen.
URL:https://autismuszentrum-bruchsal.de/event/spektrum-der-besonderheiten/
LOCATION:Heilpädagogische Praxis Ulrich Zimmermann\, Wilderichstr. 9\, Bruchsal\, 76646\, Deutschland
CATEGORIES:Fortbildung
END:VEVENT
END:VCALENDAR